BEGIN:VCALENDAR
VERSION:2.0
PRODID:-//Paarsein - Paartherapie &amp; Coaching - ECPv6.15.20//NONSGML v1.0//EN
CALSCALE:GREGORIAN
METHOD:PUBLISH
X-ORIGINAL-URL:https://www.paarsein.com
X-WR-CALDESC:Veranstaltungen für Paarsein - Paartherapie &amp; Coaching
REFRESH-INTERVAL;VALUE=DURATION:PT1H
X-Robots-Tag:noindex
X-PUBLISHED-TTL:PT1H
BEGIN:VTIMEZONE
TZID:Europe/Berlin
BEGIN:DAYLIGHT
TZOFFSETFROM:+0100
TZOFFSETTO:+0200
TZNAME:CEST
DTSTART:20160327T010000
END:DAYLIGHT
BEGIN:STANDARD
TZOFFSETFROM:+0200
TZOFFSETTO:+0100
TZNAME:CET
DTSTART:20161030T010000
END:STANDARD
BEGIN:DAYLIGHT
TZOFFSETFROM:+0100
TZOFFSETTO:+0200
TZNAME:CEST
DTSTART:20170326T010000
END:DAYLIGHT
BEGIN:STANDARD
TZOFFSETFROM:+0200
TZOFFSETTO:+0100
TZNAME:CET
DTSTART:20171029T010000
END:STANDARD
BEGIN:DAYLIGHT
TZOFFSETFROM:+0100
TZOFFSETTO:+0200
TZNAME:CEST
DTSTART:20180325T010000
END:DAYLIGHT
BEGIN:STANDARD
TZOFFSETFROM:+0200
TZOFFSETTO:+0100
TZNAME:CET
DTSTART:20181028T010000
END:STANDARD
BEGIN:DAYLIGHT
TZOFFSETFROM:+0100
TZOFFSETTO:+0200
TZNAME:CEST
DTSTART:20190331T010000
END:DAYLIGHT
BEGIN:STANDARD
TZOFFSETFROM:+0200
TZOFFSETTO:+0100
TZNAME:CET
DTSTART:20191027T010000
END:STANDARD
BEGIN:DAYLIGHT
TZOFFSETFROM:+0100
TZOFFSETTO:+0200
TZNAME:CEST
DTSTART:20200329T010000
END:DAYLIGHT
BEGIN:STANDARD
TZOFFSETFROM:+0200
TZOFFSETTO:+0100
TZNAME:CET
DTSTART:20201025T010000
END:STANDARD
BEGIN:DAYLIGHT
TZOFFSETFROM:+0100
TZOFFSETTO:+0200
TZNAME:CEST
DTSTART:20210328T010000
END:DAYLIGHT
BEGIN:STANDARD
TZOFFSETFROM:+0200
TZOFFSETTO:+0100
TZNAME:CET
DTSTART:20211031T010000
END:STANDARD
BEGIN:DAYLIGHT
TZOFFSETFROM:+0100
TZOFFSETTO:+0200
TZNAME:CEST
DTSTART:20220327T010000
END:DAYLIGHT
BEGIN:STANDARD
TZOFFSETFROM:+0200
TZOFFSETTO:+0100
TZNAME:CET
DTSTART:20221030T010000
END:STANDARD
BEGIN:DAYLIGHT
TZOFFSETFROM:+0100
TZOFFSETTO:+0200
TZNAME:CEST
DTSTART:20230326T010000
END:DAYLIGHT
BEGIN:STANDARD
TZOFFSETFROM:+0200
TZOFFSETTO:+0100
TZNAME:CET
DTSTART:20231029T010000
END:STANDARD
BEGIN:DAYLIGHT
TZOFFSETFROM:+0100
TZOFFSETTO:+0200
TZNAME:CEST
DTSTART:20240331T010000
END:DAYLIGHT
BEGIN:STANDARD
TZOFFSETFROM:+0200
TZOFFSETTO:+0100
TZNAME:CET
DTSTART:20241027T010000
END:STANDARD
BEGIN:DAYLIGHT
TZOFFSETFROM:+0100
TZOFFSETTO:+0200
TZNAME:CEST
DTSTART:20250330T010000
END:DAYLIGHT
BEGIN:STANDARD
TZOFFSETFROM:+0200
TZOFFSETTO:+0100
TZNAME:CET
DTSTART:20251026T010000
END:STANDARD
BEGIN:DAYLIGHT
TZOFFSETFROM:+0100
TZOFFSETTO:+0200
TZNAME:CEST
DTSTART:20260329T010000
END:DAYLIGHT
BEGIN:STANDARD
TZOFFSETFROM:+0200
TZOFFSETTO:+0100
TZNAME:CET
DTSTART:20261025T010000
END:STANDARD
BEGIN:DAYLIGHT
TZOFFSETFROM:+0100
TZOFFSETTO:+0200
TZNAME:CEST
DTSTART:20270328T010000
END:DAYLIGHT
BEGIN:STANDARD
TZOFFSETFROM:+0200
TZOFFSETTO:+0100
TZNAME:CET
DTSTART:20271031T010000
END:STANDARD
END:VTIMEZONE
BEGIN:VEVENT
DTSTART;VALUE=DATE:20260416
DTEND;VALUE=DATE:20260418
DTSTAMP:20260420T132058
CREATED:20250805T100857Z
LAST-MODIFIED:20251218T090707Z
UID:4002-1776297600-1776470399@www.paarsein.com
SUMMARY:PaarSein - Achtsamkeit in der Partnerschaft
DESCRIPTION:PaarSein – Achtsamkeit in der Partnerschaft\nLebendige Partnerschaft – Ich und Du\, ein Boxenstopp für das Paar\, für eine gelingende Kommunikation.\n \n\nEigentlich geht es uns ganz gut\, aber…. Oftmals verlieren wir in unserer gewohnten Alltagsroutine das freudige\, leichte und verständnisvolle Miteinander in der Partnerschaft. Die Kommunikation und die Achtsamkeit leidet\, Missverständnisse entstehen und dadurch vielleicht auch Unzufriedenheit.\nFreuen Sie sich auf zwei erlebnisreiche und anregende PaarSein-Tage miteinander in unserem Seminar\, für eine gelingende Kommunikation und mehr Lebensfreude und Achtsamkeit in Ihrer Partnerschaft. \nFür eine lebendige Partnerschaft und für die Entwicklung als Paar ist es notwendig\, die Wirkung des eigenen Verhaltens zu überprüfen\, und wo wünschenswert bzw. notwendig\, individuell neu zu bestimmen. Sodass jeder Einzelne in der Partnerschaft seine Lebendigkeit\, Neugierde und Lebensfreude leben und zum Ausdruck bringen kann. \nMehr hierzu: PaarSein – Achtsamkeit in der Partnerschaft
URL:https://www.paarsein.com/seminar/paarsein-achtsamkeit-in-der-partnerschaft-2/
LOCATION:PaarSein\, Veilstraße 2/1\, Königsfeld\, BW\, 78126\, Deutschland
CATEGORIES:Seminar
ATTACH;FMTTYPE=image/jpeg:https://www.paarsein.com/wp-content/uploads/2016/11/Achtsamkeit_in_Partnerschaft.jpg
ORGANIZER;CN="PaarSein":MAILTO:info@paarsein.com
END:VEVENT
BEGIN:VEVENT
DTSTART;VALUE=DATE:20260318
DTEND;VALUE=DATE:20260326
DTSTAMP:20260420T132058
CREATED:20181120T163144Z
LAST-MODIFIED:20251218T090212Z
UID:4034-1773792000-1774483199@www.paarsein.com
SUMMARY:PaarSein-Tage – das PaarSein-Konzept ©
DESCRIPTION:PaarSein-Tage – das PaarSein-Konzept © \nDer Weg zu Ihrem persönlichen und partnerschaftlichen Erfolg   / abgesagt auf Grund der Corona Verordnung\n \nIn diesem einzigartigen 8-tägigen Seminar nehmen Sie sich bewusst 8 Tage aus Ihrem Alltag heraus und betrachten in Ruhe Ihre jetzige Situation\, – wo stehe ich jetzt\, wo will ich wirklich hin?  \n\nSie gewinnen deutlich an Lebensqualität und steigern Ihre Lebensfreude. Vertrauen und Gelassenheit entstehen. Davon profitieren Sie für sich persönlich und in Ihrer Partnerschaft.\nSie finden heraus\, was Ihnen persönlich wirklich wichtig ist\, Sie beschreiben und definieren Ihre Ziele und mit uns gemeinsam erarbeiten Sie\, wie Sie Ihre Ziele Schritt für Schritt konkret umsetzen: persönlich – in der Partnerschaft – im Beruf.\nDurch die Konzentration auf das Wesentliche gewinnen Sie in den PaarSein-Tagen Klarheit und innere Sicherheit für Ihre weitere Lebensgestaltung.\nSie steigern Ihre innere Kraft\, Ihren Mut und Ihr Selbstvertrauen.\nSie haben Klarheit darüber\, was Sie selbst tun wollen\, um ein echtes Miteinander in Ihrer Partnerschaft zu erzielen\, wodurch tiefe Verbundenheit\, Offenheit und Vertrauen entstehen.\nSie gewinnen Sicherheit im Umgang mit Ihrer Familie und Ihren Kindern.\nSie entwickeln einen Weg\, wie Sie berufliches Engagement und eine lebendige Partnerschaft in Einklang und Balance bringen.\nSie fahren mit einem klaren Kopf\, mit Zuversicht und einem klaren Blick für das Wesentliche nach Hause.\nSie kennen Ihre nächsten Schritte und Ziele und wissen genau\, wie Sie diese erfolgreich in Ihrem Alltag realisieren.\n\nTeilnehmerzahl  2 – 5 Personen \nMehr hierzu: PaarSein-Tage – das PaarSein-Konzept ©
URL:https://www.paarsein.com/seminar/paarsein-tage-das-paarsein-konzept-5/
LOCATION:PaarSein\, Veilstraße 2/1\, Königsfeld\, BW\, 78126\, Deutschland
CATEGORIES:Seminar
ATTACH;FMTTYPE=image/jpeg:https://www.paarsein.com/wp-content/uploads/2016/11/Paar-Sein_Tage.jpg
ORGANIZER;CN="PaarSein":MAILTO:info@paarsein.com
END:VEVENT
BEGIN:VEVENT
DTSTART;VALUE=DATE:20260214
DTEND;VALUE=DATE:20260218
DTSTAMP:20260420T132058
CREATED:20211008T071216Z
LAST-MODIFIED:20251218T090105Z
UID:5247-1771027200-1771372799@www.paarsein.com
SUMMARY:PaarSein – Gemeinsam wachsen in der Partnerschaft
DESCRIPTION:PaarSein – Gemeinsam wachsen in der Partnerschaft \nLiebe\, Vertrauen & Perspektiven  \nEine wunderbare  Möglichkeit\, sich einmal ganz bewusst als Paar aus Ihrem Alltag herauszunehmen und mit dem Seminar unter dem Motto  “ Zeit für mich – Zeit und Auszeit für unsere Partnerschaft“ in Ruhe Ihre Lebenssituation\, Ihr Tun und Fühlen zu betrachten.  \nSie schenken sich mit diesem PaarSein-Seminar bewusst Zeit\, um wieder mehr Verständnis\, Geborgenheit und Wertschätzung in Ihrer Partnerschaft zu erfahren.  Damit Sie sich auf ein harmonisches und glückliches Miteinander freuen können. \nExklusiv für Sie als Paar. \nMehr hierzu: Gemeinsam wachsen in der Partnerschaft
URL:https://www.paarsein.com/seminar/paarsein-gemeinsam-wachsen-in-der-partnerschaft-4/
LOCATION:PaarSein\, Veilstraße 2/1\, Königsfeld\, BW\, 78126\, Deutschland
CATEGORIES:Seminar
ATTACH;FMTTYPE=image/jpeg:https://www.paarsein.com/wp-content/uploads/2016/11/Gemeinsam_wachsen_in_der_Partnerschaft.jpg
ORGANIZER;CN="PaarSein":MAILTO:info@paarsein.com
END:VEVENT
BEGIN:VEVENT
DTSTART;VALUE=DATE:20260121
DTEND;VALUE=DATE:20260125
DTSTAMP:20260420T132058
CREATED:20170127T112649Z
LAST-MODIFIED:20251218T085931Z
UID:3573-1768953600-1769299199@www.paarsein.com
SUMMARY:PaarSein – Gemeinsam wachsen in der Partnerschaft
DESCRIPTION:PaarSein – Gemeinsam wachsen in der Partnerschaft \nLiebe\, Vertrauen & Perspektiven  \nEine wunderbare  Möglichkeit\, sich einmal ganz bewusst als Paar aus Ihrem Alltag herauszunehmen und mit dem Seminar unter dem Motto  “ Zeit für mich – Zeit und Auszeit für unsere Partnerschaft“ in Ruhe Ihre Lebenssituation\, Ihr Tun und Fühlen zu betrachten.  \nSie schenken sich mit diesem PaarSein-Seminar bewusst Zeit\, um wieder mehr Verständnis\, Geborgenheit und Wertschätzung in Ihrer Partnerschaft zu erfahren.  Damit Sie sich auf ein harmonisches und glückliches Miteinander freuen können. \nExklusiv für Sie als Paar. \nMehr hierzu: Gemeinsam wachsen in der Partnerschaft
URL:https://www.paarsein.com/seminar/gemeinsam-wachsen-in-der-partnerschaft-2/
LOCATION:PaarSein\, Veilstraße 2/1\, Königsfeld\, BW\, 78126\, Deutschland
CATEGORIES:Seminar
ATTACH;FMTTYPE=image/jpeg:https://www.paarsein.com/wp-content/uploads/2016/11/Gemeinsam_wachsen_in_der_Partnerschaft.jpg
ORGANIZER;CN="PaarSein":MAILTO:info@paarsein.com
END:VEVENT
BEGIN:VEVENT
DTSTART;VALUE=DATE:20251010
DTEND;VALUE=DATE:20251012
DTSTAMP:20260420T132058
CREATED:20180112T155952Z
LAST-MODIFIED:20250805T100401Z
UID:4033-1760054400-1760227199@www.paarsein.com
SUMMARY:PaarSein - Achtsamkeit in der Partnerschaft
DESCRIPTION:PaarSein – Achtsamkeit in der Partnerschaft\nLebendige Partnerschaft – Ich und Du\, ein Boxenstopp für das Paar\, für eine gelingende Kommunikation.\n \nEigentlich geht es uns ganz gut\, aber…. Oftmals verlieren wir in unserer gewohnten Alltagsroutine das freudige\, leichte und verständnisvolle Miteinander in der Partnerschaft. Die Kommunikation und die Achtsamkeit leidet\, Missverständnisse entstehen und dadurch vielleicht auch Unzufriedenheit.\nFreuen Sie sich auf zwei erlebnisreiche und anregende PaarSein-Tage miteinander in unserem Seminar\, für eine gelingende Kommunikation und mehr Lebensfreude und Achtsamkeit in Ihrer Partnerschaft. \nFür eine lebendige Partnerschaft und für die Entwicklung als Paar ist es notwendig\, die Wirkung des eigenen Verhaltens zu überprüfen\, und wo wünschenswert bzw. notwendig\, individuell neu zu bestimmen. Sodass jeder Einzelne in der Partnerschaft seine Lebendigkeit\, Neugierde und Lebensfreude leben und zum Ausdruck bringen kann. \nMehr hierzu: PaarSein – Achtsamkeit in der Partnerschaft
URL:https://www.paarsein.com/seminar/paarsein-achtsamkeit-in-der-partnerschaft-5/
LOCATION:PaarSein\, Veilstraße 2/1\, Königsfeld\, BW\, 78126\, Deutschland
CATEGORIES:Seminar
ATTACH;FMTTYPE=image/jpeg:https://www.paarsein.com/wp-content/uploads/2016/11/Achtsamkeit_in_Partnerschaft.jpg
ORGANIZER;CN="PaarSein":MAILTO:info@paarsein.com
END:VEVENT
BEGIN:VEVENT
DTSTART;VALUE=DATE:20250912
DTEND;VALUE=DATE:20250914
DTSTAMP:20260420T132058
CREATED:20170127T113411Z
LAST-MODIFIED:20250805T100153Z
UID:3197-1757635200-1757807999@www.paarsein.com
SUMMARY:PaarSein - Achtsamkeit in der Partnerschaft
DESCRIPTION:
URL:https://www.paarsein.com/seminar/paarsein-achtsamkeit-in-der-partnerschaft/
LOCATION:PaarSein\, Veilstraße 2/1\, Königsfeld\, BW\, 78126\, Deutschland
CATEGORIES:Seminar
ATTACH;FMTTYPE=image/jpeg:https://www.paarsein.com/wp-content/uploads/2016/11/Achtsamkeit_in_Partnerschaft.jpg
ORGANIZER;CN="PaarSein":MAILTO:info@paarsein.com
END:VEVENT
BEGIN:VEVENT
DTSTART;VALUE=DATE:20250312
DTEND;VALUE=DATE:20250317
DTSTAMP:20260420T132058
CREATED:20170221T140651Z
LAST-MODIFIED:20241010T131931Z
UID:3200-1741737600-1742169599@www.paarsein.com
SUMMARY:Midlife-Vision - wo soll die Reise für mich hingehen?
DESCRIPTION:„Midlife- Vision – wo soll die Reise für mich hingehen?“ \nDieses  aufbauende und stärkende 5-tägige Seminar spricht Frauen und Männer an\, die in Ihrem persönlichen und beruflichen Alltag z.B. Unzufriedenheit\, innere Unruhe\, Stress\, fehlende Motivation oder das Gefühl der Kraftlosigkeit verspüren. \n40+… – und jetzt?!\nSo um die 40 werden wir in der Regel zum ersten Mal damit konfrontiert\, dass wir das Gefühl haben\, uns selbst nicht mehr zu kennen\, dass alles scheinbar aus dem Ruder läuft. Vor allem in unseren Beziehungen spüren und erleben wir häufig die Auswirkungen in all ihren Facetten. Manche nennen das ganz einfach „Midlife-Crisis“\, manche nennen es auch Depression und sehen darin im Grunde den Anfang vom Ende. Wir betrachten das aus einem anderen Blickwinkel und sagen\, das ist die Chance zum Anfang von etwas Neuem. Es ist eine deutliche Aufforderung\, Bilanz zu ziehen\, das Vergangene zu betrachten und eine neue\, tragfähige Vision zu entwickeln\, die unsere Sinnhaftigkeit für unsere zweite Lebenshälfte definiert. \nMehr hierzu: Midlife-Vision – wo soll die Reise für mich hingehen?
URL:https://www.paarsein.com/seminar/midlife-vision/
LOCATION:PaarSein\, Veilstraße 2/1\, Königsfeld\, BW\, 78126\, Deutschland
CATEGORIES:Seminar
ATTACH;FMTTYPE=image/jpeg:https://www.paarsein.com/wp-content/uploads/2016/11/Midlife-Vision.jpg
ORGANIZER;CN="PaarSein":MAILTO:info@paarsein.com
END:VEVENT
BEGIN:VEVENT
DTSTART;VALUE=DATE:20241120
DTEND;VALUE=DATE:20241124
DTSTAMP:20260420T132058
CREATED:20180112T155751Z
LAST-MODIFIED:20241010T131503Z
UID:4038-1732060800-1732406399@www.paarsein.com
SUMMARY:PaarSein – Gemeinsam wachsen in der Partnerschaft
DESCRIPTION:PaarSein – Gemeinsam wachsen in der Partnerschaft \nLiebe\, Vertrauen & Perspektiven\n \nEine wunderbare  Möglichkeit\, sich einmal ganz bewusst als Paar aus Ihrem Alltag herauszunehmen und mit dem Seminar unter dem Motto  “ Zeit für mich – Zeit und Auszeit für unsere Partnerschaft“ in Ruhe Ihre Lebenssituation\, Ihr Tun und Fühlen zu betrachten.  \nSie schenken sich mit diesem PaarSein-Seminar bewusst Zeit\, um wieder mehr Verständnis\, Geborgenheit und Wertschätzung in Ihrer Partnerschaft zu erfahren.  Damit Sie sich auf ein harmonisches und glückliches Miteinander freuen können. \nExklusiv für Sie als Paar. \nMehr hierzu: Gemeinsam wachsen in der Partnerschaft
URL:https://www.paarsein.com/seminar/paarsein-gemeinsam-wachsen-in-der-partnerschaft/
LOCATION:PaarSein\, Veilstraße 2/1\, Königsfeld\, BW\, 78126\, Deutschland
CATEGORIES:Seminar
ATTACH;FMTTYPE=image/jpeg:https://www.paarsein.com/wp-content/uploads/2016/11/Gemeinsam_wachsen_in_der_Partnerschaft.jpg
ORGANIZER;CN="PaarSein":MAILTO:info@paarsein.com
END:VEVENT
BEGIN:VEVENT
DTSTART;VALUE=DATE:20240411
DTEND;VALUE=DATE:20240413
DTSTAMP:20260420T132058
CREATED:20180112T155450Z
LAST-MODIFIED:20240410T143137Z
UID:4035-1712793600-1712966399@www.paarsein.com
SUMMARY:PaarSein - Achtsamkeit in der Partnerschaft
DESCRIPTION:PaarSein – Achtsamkeit in der Partnerschaft\nLebendige Partnerschaft – Ich und Du\, ein Boxenstopp für das Paar\, für eine gelingende Kommunikation. \nAbgesagt auf Grund der Corona – Verordnung \n\nEigentlich geht es uns ganz gut\, aber…. Oftmals verlieren wir in unserer gewohnten Alltagsroutine das freudige\, leichte und verständnisvolle Miteinander in der Partnerschaft. Die Kommunikation und die Achtsamkeit leidet\, Missverständnisse entstehen und dadurch vielleicht auch Unzufriedenheit. \nFreuen Sie sich auf zwei erlebnisreiche und anregende PaarSein-Tage miteinander in unserem Seminar\, für eine gelingende Kommunikation und mehr Lebensfreude und Achtsamkeit in Ihrer Partnerschaft. \nFür eine lebendige Partnerschaft und für die Entwicklung als Paar ist es notwendig\, die Wirkung des eigenen Verhaltens zu überprüfen\, und wo wünschenswert bzw. notwendig\, individuell neu zu bestimmen. Sodass jeder Einzelne in der Partnerschaft seine Lebendigkeit\, Neugierde und Lebensfreude leben und zum Ausdruck bringen kann. \nMehr hierzu: PaarSein – Achtsamkeit in der Partnerschaft
URL:https://www.paarsein.com/seminar/paarsein-achtsamkeit-in-der-partnerschaft-4/
LOCATION:PaarSein\, Veilstraße 2/1\, Königsfeld\, BW\, 78126\, Deutschland
CATEGORIES:Seminar
ATTACH;FMTTYPE=image/jpeg:https://www.paarsein.com/wp-content/uploads/2016/11/Achtsamkeit_in_Partnerschaft.jpg
ORGANIZER;CN="PaarSein":MAILTO:info@paarsein.com
END:VEVENT
BEGIN:VEVENT
DTSTART;VALUE=DATE:20181019
DTEND;VALUE=DATE:20181027
DTSTAMP:20260420T132058
CREATED:20161111T110439Z
LAST-MODIFIED:20180207T183201Z
UID:3138-1539907200-1540598399@www.paarsein.com
SUMMARY:PaarSein-Tage – das PaarSein-Konzept ©
DESCRIPTION:PaarSein-Tage – das PaarSein-Konzept © \n – Der Weg zu Ihrem persönlichen und partnerschaftlichen Erfolg \nIn diesem einzigartigen 8-tägigen Seminar nehmen Sie sich bewusst 8 Tage aus Ihrem Alltag heraus und betrachten in Ruhe Ihre jetzige Situation\, – wo stehe ich jetzt\, wo will ich wirklich hin?  \n\nSie gewinnen deutlich an Lebensqualität und steigern Ihre Lebensfreude. Vertrauen und Gelassenheit entstehen. Davon profitieren Sie für sich persönlich und in Ihrer Partnerschaft.\nSie finden heraus\, was Ihnen persönlich wirklich wichtig ist\, Sie beschreiben und definieren Ihre Ziele und mit uns gemeinsam erarbeiten Sie\, wie Sie Ihre Ziele Schritt für Schritt konkret umsetzen: persönlich – in der Partnerschaft – im Beruf.\nDurch die Konzentration auf das Wesentliche gewinnen Sie in den PaarSein-Tagen Klarheit und innere Sicherheit für Ihre weitere Lebensgestaltung.\nSie steigern Ihre innere Kraft\, Ihren Mut und Ihr Selbstvertrauen.\nSie haben Klarheit darüber\, was Sie selbst tun wollen\, um ein echtes Miteinander in Ihrer Partnerschaft zu erzielen\, wodurch tiefe Verbundenheit\, Offenheit und Vertrauen entstehen.\nSie gewinnen Sicherheit im Umgang mit Ihrer Familie und Ihren Kindern.\nSie entwickeln einen Weg\, wie Sie berufliches Engagement und eine lebendige Partnerschaft in Einklang und Balance bringen.\nSie fahren mit einem klaren Kopf\, mit Zuversicht und einem klaren Blick für das Wesentliche nach Hause.\nSie kennen Ihre nächsten Schritte und Ziele und wissen genau\, wie Sie diese erfolgreich in Ihrem Alltag realisieren.\n\nTeilnehmerzahl  2 – 5 Personen \nMehr hierzu: PaarSein-Tage – das PaarSein-Konzept ©
URL:https://www.paarsein.com/seminar/paarsein-tage-das-paarsein-konzept-2/
LOCATION:PaarSein\, Veilstraße 2/1\, Königsfeld\, BW\, 78126\, Deutschland
CATEGORIES:Seminar
ATTACH;FMTTYPE=image/jpeg:https://www.paarsein.com/wp-content/uploads/2016/11/Paar-Sein_Tage.jpg
ORGANIZER;CN="PaarSein":MAILTO:info@paarsein.com
END:VEVENT
BEGIN:VEVENT
DTSTART;VALUE=DATE:20180505
DTEND;VALUE=DATE:20180507
DTSTAMP:20260420T132058
CREATED:20170221T142301Z
LAST-MODIFIED:20180112T154746Z
UID:3593-1525478400-1525651199@www.paarsein.com
SUMMARY:PaarSein - Achtsamkeit in der Partnerschaft
DESCRIPTION:PaarSein – Achtsamkeit in der Partnerschaft\nLebendige Partnerschaft – Ich und Du\, ein Boxenstopp für das Paar\, für eine gelingende Kommunikation.\n \n\nEigentlich geht es uns ganz gut\, aber…. Oftmals verlieren wir in unserer gewohnten Alltagsroutine das freudige\, leichte und verständnisvolle Miteinander in der Partnerschaft. Die Kommunikation und die Achtsamkeit leidet\, Missverständnisse entstehen und dadurch vielleicht auch Unzufriedenheit.\nFreuen Sie sich auf zwei erlebnisreiche und anregende PaarSein-Tage miteinander in unserem Seminar\, für eine gelingende Kommunikation und mehr Lebensfreude und Achtsamkeit in Ihrer Partnerschaft. \nFür eine lebendige Partnerschaft und für die Entwicklung als Paar ist es notwendig\, die Wirkung des eigenen Verhaltens zu überprüfen\, und wo wünschenswert bzw. notwendig\, individuell neu zu bestimmen. Sodass jeder Einzelne in der Partnerschaft seine Lebendigkeit\, Neugierde und Lebensfreude leben und zum Ausdruck bringen kann. \nMehr hierzu: PaarSein – Achtsamkeit in der Partnerschaft
URL:https://www.paarsein.com/seminar/paarsein-achtsamkeit-in-der-partnerschaft-2-2/
LOCATION:PaarSein\, Veilstraße 2/1\, Königsfeld\, BW\, 78126\, Deutschland
CATEGORIES:Seminar
ATTACH;FMTTYPE=image/jpeg:https://www.paarsein.com/wp-content/uploads/2016/11/Achtsamkeit_in_Partnerschaft.jpg
ORGANIZER;CN="PaarSein":MAILTO:info@paarsein.com
END:VEVENT
BEGIN:VEVENT
DTSTART;VALUE=DATE:20180413
DTEND;VALUE=DATE:20180421
DTSTAMP:20260420T132058
CREATED:20161109T134056Z
LAST-MODIFIED:20171121T174113Z
UID:3039-1523577600-1524268799@www.paarsein.com
SUMMARY:PaarSein-Tage – das PaarSein-Konzept ©
DESCRIPTION:PaarSein-Tage – das PaarSein-Konzept © \nDer Weg zu Ihrem persönlichen und partnerschaftlichen Erfolg \nIn diesem einzigartigen 8-tägigen Seminar nehmen Sie sich bewusst 8 Tage aus Ihrem Alltag heraus und betrachten in Ruhe Ihre jetzige Situation\, – wo stehe ich jetzt\, wo will ich wirklich hin?  \n\nSie gewinnen deutlich an Lebensqualität und steigern Ihre Lebensfreude. Vertrauen und Gelassenheit entstehen. Davon profitieren Sie für sich persönlich und in Ihrer Partnerschaft.\nSie finden heraus\, was Ihnen persönlich wirklich wichtig ist\, Sie beschreiben und definieren Ihre Ziele und mit uns gemeinsam erarbeiten Sie\, wie Sie Ihre Ziele Schritt für Schritt konkret umsetzen: persönlich – in der Partnerschaft – im Beruf.\nDurch die Konzentration auf das Wesentliche gewinnen Sie in den PaarSein-Tagen Klarheit und innere Sicherheit für Ihre weitere Lebensgestaltung.\nSie steigern Ihre innere Kraft\, Ihren Mut und Ihr Selbstvertrauen.\nSie haben Klarheit darüber\, was Sie selbst tun wollen\, um ein echtes Miteinander in Ihrer Partnerschaft zu erzielen\, wodurch tiefe Verbundenheit\, Offenheit und Vertrauen entstehen.\nSie gewinnen Sicherheit im Umgang mit Ihrer Familie und Ihren Kindern.\nSie entwickeln einen Weg\, wie Sie berufliches Engagement und eine lebendige Partnerschaft in Einklang und Balance bringen.\nSie fahren mit einem klaren Kopf\, mit Zuversicht und einem klaren Blick für das Wesentliche nach Hause.\nSie kennen Ihre nächsten Schritte und Ziele und wissen genau\, wie Sie diese erfolgreich in Ihrem Alltag realisieren.\n\nTeilnehmerzahl  2 – 5 Personen \nMehr hierzu: PaarSein-Tage – das PaarSein-Konzept ©
URL:https://www.paarsein.com/seminar/paarsein-tage-das-paarsein-konzept/
LOCATION:PaarSein\, Veilstraße 2/1\, Königsfeld\, BW\, 78126\, Deutschland
CATEGORIES:Seminar
ATTACH;FMTTYPE=image/jpeg:https://www.paarsein.com/wp-content/uploads/2016/11/Paar-Sein_Tage.jpg
ORGANIZER;CN="PaarSein":MAILTO:info@paarsein.com
END:VEVENT
BEGIN:VEVENT
DTSTART;VALUE=DATE:20170518
DTEND;VALUE=DATE:20170526
DTSTAMP:20260420T132058
CREATED:20210430T095726Z
LAST-MODIFIED:20210430T095839Z
UID:3199-1495065600-1495756799@www.paarsein.com
SUMMARY:Meine berufliche (Neu)-Orientierung oder „Das Konzept\, das zu mir passt“
DESCRIPTION:
URL:https://www.paarsein.com/seminar/meine-berufliche-neu-orientierung/
LOCATION:PaarSein\, Veilstraße 2/1\, Königsfeld\, BW\, 78126\, Deutschland
CATEGORIES:Seminar
ATTACH;FMTTYPE=image/jpeg:https://www.paarsein.com/wp-content/uploads/2016/11/Aufbauseminar.jpg
ORGANIZER;CN="PaarSein":MAILTO:info@paarsein.com
END:VEVENT
END:VCALENDAR